BEGIN:VCALENDAR
VERSION:2.0
PRODID:-//Gear Parent Network - ECPv6.15.17.1//NONSGML v1.0//EN
CALSCALE:GREGORIAN
METHOD:PUBLISH
X-ORIGINAL-URL:https://gearparentnetwork.org
X-WR-CALDESC:Events for Gear Parent Network
REFRESH-INTERVAL;VALUE=DURATION:PT1H
X-Robots-Tag:noindex
X-PUBLISHED-TTL:PT1H
BEGIN:VTIMEZONE
TZID:America/New_York
BEGIN:DAYLIGHT
TZOFFSETFROM:-0500
TZOFFSETTO:-0400
TZNAME:EDT
DTSTART:20230312T070000
END:DAYLIGHT
BEGIN:STANDARD
TZOFFSETFROM:-0400
TZOFFSETTO:-0500
TZNAME:EST
DTSTART:20231105T060000
END:STANDARD
BEGIN:DAYLIGHT
TZOFFSETFROM:-0500
TZOFFSETTO:-0400
TZNAME:EDT
DTSTART:20240310T070000
END:DAYLIGHT
BEGIN:STANDARD
TZOFFSETFROM:-0400
TZOFFSETTO:-0500
TZNAME:EST
DTSTART:20241103T060000
END:STANDARD
BEGIN:DAYLIGHT
TZOFFSETFROM:-0500
TZOFFSETTO:-0400
TZNAME:EDT
DTSTART:20250309T070000
END:DAYLIGHT
BEGIN:STANDARD
TZOFFSETFROM:-0400
TZOFFSETTO:-0500
TZNAME:EST
DTSTART:20251102T060000
END:STANDARD
END:VTIMEZONE
BEGIN:VEVENT
DTSTART;TZID=America/New_York:20240305T180000
DTEND;TZID=America/New_York:20240305T200000
DTSTAMP:20260421T233356
CREATED:20240102T224604Z
LAST-MODIFIED:20240102T224604Z
UID:6359-1709661600-1709668800@gearparentnetwork.org
SUMMARY:ACEs\, Being a Trauma-Informed Parent: Linking Childhood Trauma to Long-Term Health & Social Consequence
DESCRIPTION:Traumatic childhood experiences such as abuse\, neglect\, domestic violence\, or substance abuse in the home can have long-term physical\, psychological\, behavioral and economic consequences. The Adverse Childhood Experiences (ACE) Study demonstrates the connection between childhood trauma and a wide array of physical & mental health problems. Despite the trauma in their lives\, children can survive and even thrive. Protective factors\, including healthy relationships with parents and caregivers\, foster resilience in children and help them to overcome early adversity. \nThe G.E.A.R. Parent Network\, a program of Crisis & Counseling Centers\, is the place where Gaining Empowerment Allows Results. G.E.A.R. is run by parents for parents providing services for parents of children with emotional and behavioral health concerns. \nThrough parent-to-parent sharing of experiences and knowledge\, G.E.A.R. Parent Network empowers parents of children with behavioral health needs to build on their family’s strengths and to advocate for their family’s needs.
URL:https://gearparentnetwork.org/event/aces-being-a-trauma-informed-parent-linking-childhood-trauma-to-long-term-health-social-consequence-2/
LOCATION:Go-To Meeting
END:VEVENT
BEGIN:VEVENT
DTSTART;TZID=America/New_York:20240306T130000
DTEND;TZID=America/New_York:20240306T143000
DTSTAMP:20260421T233356
CREATED:20231227T193250Z
LAST-MODIFIED:20231227T193250Z
UID:6325-1709730000-1709735400@gearparentnetwork.org
SUMMARY:March Support Group
DESCRIPTION:held virtually every Wednesday from 1-2:30 p.m. \nThe G.E.A.R. Parent Network\, a program of Crisis & Counseling Centers\, is the place where Gaining Empowerment Allows Results. G.E.A.R. is run by parents for parents providing services for parents of children with emotional and behavioral health concerns. \nThrough parent-to-parent sharing of experiences and knowledge\, G.E.A.R. Parent Network empowers parents of children with behavioral health needs to build on their family’s strengths and to advocate for their family’s needs.
URL:https://gearparentnetwork.org/event/march-support-group/
LOCATION:Go-To Meeting
END:VEVENT
BEGIN:VEVENT
DTSTART;TZID=America/New_York:20240309T090000
DTEND;TZID=America/New_York:20240309T150000
DTSTAMP:20260421T233356
CREATED:20240102T225033Z
LAST-MODIFIED:20240102T225033Z
UID:6363-1709974800-1709996400@gearparentnetwork.org
SUMMARY:Parenting with Dignity-Picking up This Ball Is a Victory for All
DESCRIPTION:March 9 and 16\, 2024 from 9 a.m – 3 p.m. \nG.E.A.R. Parent Network invites you to pick up the ball and run with it through a multi-part parenting education course developed by Mac Bledsoe\, father of a celebrated New England Patriots’ quarterback Drew Bledsoe. Parenting with Dignity helps parents learn effective techniques for raising responsible\, independent children. Topics include:\nDay 1: A Model of Human Performance and Five Rules for Parents\nDay 1: Discipline\, Deciding what you Want-Part 1 and 2\nDay 1 & 2: Sending a Constant Message of Love – Part 1 and 2\nDay 2: Teaching Your Values to Your Kids and Goal Setting\nDay 2: The Reasons Punishment Doesn’t Work \nThe G.E.A.R. Parent Network\, a program of Crisis & Counseling Centers\, is the place where Gaining Empowerment Allows Results. G.E.A.R. is run by parents for parents providing services for parents of children with emotional and behavioral health concerns. \nThrough parent-to-parent sharing of experiences and knowledge\, G.E.A.R. Parent Network empowers parents of children with behavioral health needs to build on their family’s strengths and to advocate for their family’s needs.
URL:https://gearparentnetwork.org/event/parenting-with-dignity-picking-up-this-ball-is-a-victory-for-all-4/
LOCATION:Go-To Meeting
END:VEVENT
BEGIN:VEVENT
DTSTART;TZID=America/New_York:20240312T100000
DTEND;TZID=America/New_York:20240312T120000
DTSTAMP:20260421T233356
CREATED:20240103T160040Z
LAST-MODIFIED:20240103T160040Z
UID:6375-1710237600-1710244800@gearparentnetwork.org
SUMMARY:Do You Speak Teen? ‘mnE Ps dnt bleev der is a gNR8N d/c b/t em n thr teen”
DESCRIPTION:Communicating with teens today is more challenging than ever but not impossible! This workshop will explore modern technology and give you some new ideas to peek into your teen’s world. The framework of the 40 Developmental Assets® will also be shared. Minneapolis-based Search Institute® has identified 40 building blocks of healthy development – known as “developmental assets” – that help influence choices young people make and help them become caring and responsible adults. \nThe G.E.A.R. Parent Network\, a program of Crisis & Counseling Centers\, is the place where Gaining Empowerment Allows Results. G.E.A.R. is run by parents for parents providing services for parents of children with emotional and behavioral health concerns. \nThrough parent-to-parent sharing of experiences and knowledge\, G.E.A.R. Parent Network empowers parents of children with behavioral health needs to build on their family’s strengths and to advocate for their family’s needs.
URL:https://gearparentnetwork.org/event/do-you-speak-teen-mne-ps-dnt-bleev-der-is-a-gnr8n-d-c-b-t-em-n-thr-teen-3/
LOCATION:Go-To Meeting
END:VEVENT
BEGIN:VEVENT
DTSTART;TZID=America/New_York:20240318T180000
DTEND;TZID=America/New_York:20240318T200000
DTSTAMP:20260421T233356
CREATED:20240102T225912Z
LAST-MODIFIED:20240102T225912Z
UID:6371-1710784800-1710792000@gearparentnetwork.org
SUMMARY:Non-Toxic Housekeeping Class
DESCRIPTION:Save money and reduce your family’s exposure from toxic household cleaners! Join us and learn how to avoid using toxic cleaning chemicals and still provide a clean\, healthy and comfortable home; how to save money and time with simple cleaning technique; easy and inexpensive recipes to make safe and effective homemade household cleaners. \nThe G.E.A.R. Parent Network\, a program of Crisis & Counseling Centers\, is the place where Gaining Empowerment Allows Results. G.E.A.R. is run by parents for parents providing services for parents of children with emotional and behavioral health concerns. \nThrough parent-to-parent sharing of experiences and knowledge\, G.E.A.R. Parent Network empowers parents of children with behavioral health needs to build on their family’s strengths and to advocate for their family’s needs. \n 
URL:https://gearparentnetwork.org/event/non-toxic-housekeeping-class-2/
LOCATION:RSU Adult & Community Education \, Bucksport High School 102 Broadway #1 and GOTO
END:VEVENT
BEGIN:VEVENT
DTSTART;TZID=America/New_York:20240326T193000
DTEND;TZID=America/New_York:20240326T203000
DTSTAMP:20260421T233356
CREATED:20240311T150229Z
LAST-MODIFIED:20240311T150722Z
UID:6529-1711481400-1711485000@gearparentnetwork.org
SUMMARY:March 26 Evening Support Group
DESCRIPTION:The G.E.A.R. Parent Network\, a program of Crisis & Counseling Centers\, is the place where Gaining Empowerment Allows Results. G.E.A.R. is run by parents for parents providing services for parents of children with emotional and behavioral health concerns. \nThrough parent-to-parent sharing of experiences and knowledge\, G.E.A.R. Parent Network empowers parents of children with behavioral health needs to build on their family’s strengths and to advocate for their family’s needs.
URL:https://gearparentnetwork.org/event/march-26-evening-support-group/
LOCATION:Go-To Meeting
END:VEVENT
END:VCALENDAR