BEGIN:VCALENDAR
VERSION:2.0
PRODID:-//Gear Parent Network - ECPv6.15.17.1//NONSGML v1.0//EN
CALSCALE:GREGORIAN
METHOD:PUBLISH
X-ORIGINAL-URL:https://gearparentnetwork.org
X-WR-CALDESC:Events for Gear Parent Network
REFRESH-INTERVAL;VALUE=DURATION:PT1H
X-Robots-Tag:noindex
X-PUBLISHED-TTL:PT1H
BEGIN:VTIMEZONE
TZID:America/New_York
BEGIN:DAYLIGHT
TZOFFSETFROM:-0500
TZOFFSETTO:-0400
TZNAME:EDT
DTSTART:20230312T070000
END:DAYLIGHT
BEGIN:STANDARD
TZOFFSETFROM:-0400
TZOFFSETTO:-0500
TZNAME:EST
DTSTART:20231105T060000
END:STANDARD
BEGIN:DAYLIGHT
TZOFFSETFROM:-0500
TZOFFSETTO:-0400
TZNAME:EDT
DTSTART:20240310T070000
END:DAYLIGHT
BEGIN:STANDARD
TZOFFSETFROM:-0400
TZOFFSETTO:-0500
TZNAME:EST
DTSTART:20241103T060000
END:STANDARD
BEGIN:DAYLIGHT
TZOFFSETFROM:-0500
TZOFFSETTO:-0400
TZNAME:EDT
DTSTART:20250309T070000
END:DAYLIGHT
BEGIN:STANDARD
TZOFFSETFROM:-0400
TZOFFSETTO:-0500
TZNAME:EST
DTSTART:20251102T060000
END:STANDARD
END:VTIMEZONE
BEGIN:VEVENT
DTSTART;TZID=America/New_York:20240411T130000
DTEND;TZID=America/New_York:20240411T150000
DTSTAMP:20260421T233321
CREATED:20240314T213411Z
LAST-MODIFIED:20240314T213411Z
UID:6550-1712840400-1712847600@gearparentnetwork.org
SUMMARY:What is Considered Child Abuse & Neglect in Maine?
DESCRIPTION:April is Child Abuse Prevention Month! Our children and youth are our future and child abuse and neglect is everybody’s business! In this workshop learn what is considered child abuse; state and national statistics; what Maine law is and how to report child abuse or neglect; the difference between “punishment” vs. “discipline”; child behavioral management examples and what are family and child protective factors; in addition to sharing stories of parenting lessons learned. \nThe G.E.A.R. Parent Network\, a program of Crisis & Counseling Centers\, is the place where Gaining Empowerment Allows Results. G.E.A.R. is run by parents for parents providing services for parents of children with emotional and behavioral health concerns. \nThrough parent-to-parent sharing of experiences and knowledge\, G.E.A.R. Parent Network empowers parents of children with behavioral health needs to build on their family’s strengths and to advocate for their family’s needs. \n 
URL:https://gearparentnetwork.org/event/what-is-considered-child-abuse-neglect-in-maine-3/
LOCATION:Go-To Meeting
ORGANIZER;CN="Diane Bouffard%2C CFPS%2C Team Leader &amp%3B Regional Family Support Coordinator":MAILTO:DBouffard@kbhmaine.org
END:VEVENT
END:VCALENDAR