BEGIN:VCALENDAR
VERSION:2.0
PRODID:-//Gear Parent Network - ECPv6.15.17.1//NONSGML v1.0//EN
CALSCALE:GREGORIAN
METHOD:PUBLISH
X-WR-CALNAME:Gear Parent Network
X-ORIGINAL-URL:https://gearparentnetwork.org
X-WR-CALDESC:Events for Gear Parent Network
REFRESH-INTERVAL;VALUE=DURATION:PT1H
X-Robots-Tag:noindex
X-PUBLISHED-TTL:PT1H
BEGIN:VTIMEZONE
TZID:America/New_York
BEGIN:DAYLIGHT
TZOFFSETFROM:-0500
TZOFFSETTO:-0400
TZNAME:EDT
DTSTART:20230312T070000
END:DAYLIGHT
BEGIN:STANDARD
TZOFFSETFROM:-0400
TZOFFSETTO:-0500
TZNAME:EST
DTSTART:20231105T060000
END:STANDARD
BEGIN:DAYLIGHT
TZOFFSETFROM:-0500
TZOFFSETTO:-0400
TZNAME:EDT
DTSTART:20240310T070000
END:DAYLIGHT
BEGIN:STANDARD
TZOFFSETFROM:-0400
TZOFFSETTO:-0500
TZNAME:EST
DTSTART:20241103T060000
END:STANDARD
BEGIN:DAYLIGHT
TZOFFSETFROM:-0500
TZOFFSETTO:-0400
TZNAME:EDT
DTSTART:20250309T070000
END:DAYLIGHT
BEGIN:STANDARD
TZOFFSETFROM:-0400
TZOFFSETTO:-0500
TZNAME:EST
DTSTART:20251102T060000
END:STANDARD
END:VTIMEZONE
BEGIN:VEVENT
DTSTART;TZID=America/New_York:20240309T090000
DTEND;TZID=America/New_York:20240309T150000
DTSTAMP:20260422T004725
CREATED:20240102T225033Z
LAST-MODIFIED:20240102T225033Z
UID:6363-1709974800-1709996400@gearparentnetwork.org
SUMMARY:Parenting with Dignity-Picking up This Ball Is a Victory for All
DESCRIPTION:March 9 and 16\, 2024 from 9 a.m – 3 p.m. \nG.E.A.R. Parent Network invites you to pick up the ball and run with it through a multi-part parenting education course developed by Mac Bledsoe\, father of a celebrated New England Patriots’ quarterback Drew Bledsoe. Parenting with Dignity helps parents learn effective techniques for raising responsible\, independent children. Topics include:\nDay 1: A Model of Human Performance and Five Rules for Parents\nDay 1: Discipline\, Deciding what you Want-Part 1 and 2\nDay 1 & 2: Sending a Constant Message of Love – Part 1 and 2\nDay 2: Teaching Your Values to Your Kids and Goal Setting\nDay 2: The Reasons Punishment Doesn’t Work \nThe G.E.A.R. Parent Network\, a program of Crisis & Counseling Centers\, is the place where Gaining Empowerment Allows Results. G.E.A.R. is run by parents for parents providing services for parents of children with emotional and behavioral health concerns. \nThrough parent-to-parent sharing of experiences and knowledge\, G.E.A.R. Parent Network empowers parents of children with behavioral health needs to build on their family’s strengths and to advocate for their family’s needs.
URL:https://gearparentnetwork.org/event/parenting-with-dignity-picking-up-this-ball-is-a-victory-for-all-4/
LOCATION:Go-To Meeting
END:VEVENT
END:VCALENDAR