BEGIN:VCALENDAR
VERSION:2.0
PRODID:-//Gear Parent Network - ECPv6.15.17.1//NONSGML v1.0//EN
CALSCALE:GREGORIAN
METHOD:PUBLISH
X-WR-CALNAME:Gear Parent Network
X-ORIGINAL-URL:https://gearparentnetwork.org
X-WR-CALDESC:Events for Gear Parent Network
REFRESH-INTERVAL;VALUE=DURATION:PT1H
X-Robots-Tag:noindex
X-PUBLISHED-TTL:PT1H
BEGIN:VTIMEZONE
TZID:America/New_York
BEGIN:DAYLIGHT
TZOFFSETFROM:-0500
TZOFFSETTO:-0400
TZNAME:EDT
DTSTART:20230312T070000
END:DAYLIGHT
BEGIN:STANDARD
TZOFFSETFROM:-0400
TZOFFSETTO:-0500
TZNAME:EST
DTSTART:20231105T060000
END:STANDARD
BEGIN:DAYLIGHT
TZOFFSETFROM:-0500
TZOFFSETTO:-0400
TZNAME:EDT
DTSTART:20240310T070000
END:DAYLIGHT
BEGIN:STANDARD
TZOFFSETFROM:-0400
TZOFFSETTO:-0500
TZNAME:EST
DTSTART:20241103T060000
END:STANDARD
BEGIN:DAYLIGHT
TZOFFSETFROM:-0500
TZOFFSETTO:-0400
TZNAME:EDT
DTSTART:20250309T070000
END:DAYLIGHT
BEGIN:STANDARD
TZOFFSETFROM:-0400
TZOFFSETTO:-0500
TZNAME:EST
DTSTART:20251102T060000
END:STANDARD
END:VTIMEZONE
BEGIN:VEVENT
DTSTART;TZID=America/New_York:20240226T180000
DTEND;TZID=America/New_York:20240226T200000
DTSTAMP:20260422T004720
CREATED:20240102T194447Z
LAST-MODIFIED:20240102T194447Z
UID:6354-1708970400-1708977600@gearparentnetwork.org
SUMMARY:Last One Picked – First One Picked On: Learning Disabilities and Social Skills
DESCRIPTION:Do you watch your child struggle with social isolation and rejection? This workshop will provide parents\, caregivers\, and teachers with strategies for teaching our kids the social skills they will need for success in social interaction. Participants will learn about positive traits for peer acceptance\, student traits that teachers like\, and the “hidden curriculum.” \n  \nThe G.E.A.R. Parent Network\, a program of Crisis & Counseling Centers\, is the place where Gaining Empowerment Allows Results. G.E.A.R. is run by parents for parents providing services for parents of children with emotional and behavioral health concerns. \nThrough parent-to-parent sharing of experiences and knowledge\, G.E.A.R. Parent Network empowers parents of children with behavioral health needs to build on their family’s strengths and to advocate for their family’s needs.
URL:https://gearparentnetwork.org/event/last-one-picked-first-one-picked-on-learning-disabilities-and-social-skills-2/
LOCATION:Go-To Meeting
ORGANIZER;CN="Diane Bouffard%2C CFPS%2C Team Leader &amp%3B Regional Family Support Coordinator":MAILTO:DBouffard@kbhmaine.org
END:VEVENT
END:VCALENDAR