BEGIN:VCALENDAR
VERSION:2.0
PRODID:-//Gear Parent Network - ECPv6.15.17.1//NONSGML v1.0//EN
CALSCALE:GREGORIAN
METHOD:PUBLISH
X-WR-CALNAME:Gear Parent Network
X-ORIGINAL-URL:https://gearparentnetwork.org
X-WR-CALDESC:Events for Gear Parent Network
REFRESH-INTERVAL;VALUE=DURATION:PT1H
X-Robots-Tag:noindex
X-PUBLISHED-TTL:PT1H
BEGIN:VTIMEZONE
TZID:America/New_York
BEGIN:DAYLIGHT
TZOFFSETFROM:-0500
TZOFFSETTO:-0400
TZNAME:EDT
DTSTART:20230312T070000
END:DAYLIGHT
BEGIN:STANDARD
TZOFFSETFROM:-0400
TZOFFSETTO:-0500
TZNAME:EST
DTSTART:20231105T060000
END:STANDARD
BEGIN:DAYLIGHT
TZOFFSETFROM:-0500
TZOFFSETTO:-0400
TZNAME:EDT
DTSTART:20240310T070000
END:DAYLIGHT
BEGIN:STANDARD
TZOFFSETFROM:-0400
TZOFFSETTO:-0500
TZNAME:EST
DTSTART:20241103T060000
END:STANDARD
BEGIN:DAYLIGHT
TZOFFSETFROM:-0500
TZOFFSETTO:-0400
TZNAME:EDT
DTSTART:20250309T070000
END:DAYLIGHT
BEGIN:STANDARD
TZOFFSETFROM:-0400
TZOFFSETTO:-0500
TZNAME:EST
DTSTART:20251102T060000
END:STANDARD
END:VTIMEZONE
BEGIN:VEVENT
DTSTART;TZID=America/New_York:20240116T100000
DTEND;TZID=America/New_York:20240116T120000
DTSTAMP:20260422T044040
CREATED:20231227T190407Z
LAST-MODIFIED:20231227T190407Z
UID:6305-1705399200-1705406400@gearparentnetwork.org
SUMMARY:Positive Behavioral Supports & Tantrum Management: Self-Preservation & Success in Parenting Children with Behavioral Health Needs
DESCRIPTION:Do you sometimes feel like you don’t know how to help your child? Children with behavioral health needs do not come with a manual! This workshop will offer a framework to understand the nature of your child’s behavior and methods to flexibly respond to the needs your child presents. Positive behavioral supports emphasize practical ideas about how to meet your child where they are and utilize their motivation to increase success. Understanding and using Stage of Change concepts\, maximizing provider involvement\, and enhancing natural supports will be emphasized to provide usable tools that can be applied in a variety of real-life situations. Temper tantrums are disruptive behavior or emotional outbursts displayed in response to unmet needs or desires. Come and learn how to manage your child’s tantrums by using positive behavioral supports! \nThe G.E.A.R. Parent Network\, a program of Crisis & Counseling Centers\, is the place where Gaining Empowerment Allows Results. G.E.A.R. is run by parents for parents providing services for parents of children with emotional and behavioral health concerns. \nThrough parent-to-parent sharing of experiences and knowledge\, G.E.A.R. Parent Network empowers parents of children with behavioral health needs to build on their family’s strengths and to advocate for their family’s needs. \n 
URL:https://gearparentnetwork.org/event/positive-behavioral-supports-tantrum-management-self-preservation-success-in-parenting-children-with-behavioral-health-needs-2/
LOCATION:Go-To Meeting
END:VEVENT
END:VCALENDAR