BEGIN:VCALENDAR
VERSION:2.0
PRODID:-//Gear Parent Network - ECPv6.15.17.1//NONSGML v1.0//EN
CALSCALE:GREGORIAN
METHOD:PUBLISH
X-WR-CALNAME:Gear Parent Network
X-ORIGINAL-URL:https://gearparentnetwork.org
X-WR-CALDESC:Events for Gear Parent Network
REFRESH-INTERVAL;VALUE=DURATION:PT1H
X-Robots-Tag:noindex
X-PUBLISHED-TTL:PT1H
BEGIN:VTIMEZONE
TZID:America/New_York
BEGIN:DAYLIGHT
TZOFFSETFROM:-0500
TZOFFSETTO:-0400
TZNAME:EDT
DTSTART:20230312T070000
END:DAYLIGHT
BEGIN:STANDARD
TZOFFSETFROM:-0400
TZOFFSETTO:-0500
TZNAME:EST
DTSTART:20231105T060000
END:STANDARD
BEGIN:DAYLIGHT
TZOFFSETFROM:-0500
TZOFFSETTO:-0400
TZNAME:EDT
DTSTART:20240310T070000
END:DAYLIGHT
BEGIN:STANDARD
TZOFFSETFROM:-0400
TZOFFSETTO:-0500
TZNAME:EST
DTSTART:20241103T060000
END:STANDARD
BEGIN:DAYLIGHT
TZOFFSETFROM:-0500
TZOFFSETTO:-0400
TZNAME:EDT
DTSTART:20250309T070000
END:DAYLIGHT
BEGIN:STANDARD
TZOFFSETFROM:-0400
TZOFFSETTO:-0500
TZNAME:EST
DTSTART:20251102T060000
END:STANDARD
END:VTIMEZONE
BEGIN:VEVENT
DTSTART;TZID=America/New_York:20240109T180000
DTEND;TZID=America/New_York:20240109T200000
DTSTAMP:20260422T031803
CREATED:20231227T190003Z
LAST-MODIFIED:20231227T190003Z
UID:6301-1704823200-1704830400@gearparentnetwork.org
SUMMARY:Grandparents Raising Grandchildren Oh\, My!
DESCRIPTION:Are you raising a second set of children or youth at a time you thought you would be planning your retirement? This discussion will focus on specific issues that may be challenging for grandparents today and uncover ideas and solutions for greater success and less stress. \nThe G.E.A.R. Parent Network\, a program of Crisis & Counseling Centers\, is the place where Gaining Empowerment Allows Results. G.E.A.R. is run by parents for parents providing services for parents of children with emotional and behavioral health concerns. \nThrough parent-to-parent sharing of experiences and knowledge\, G.E.A.R. Parent Network empowers parents of children with behavioral health needs to build on their family’s strengths and to advocate for their family’s needs. \n 
URL:https://gearparentnetwork.org/event/grandparents-raising-grandchildren-oh-my/
LOCATION:Go-To Meeting
END:VEVENT
END:VCALENDAR