BEGIN:VCALENDAR
VERSION:2.0
PRODID:-//Gear Parent Network - ECPv6.15.17.1//NONSGML v1.0//EN
CALSCALE:GREGORIAN
METHOD:PUBLISH
X-WR-CALNAME:Gear Parent Network
X-ORIGINAL-URL:https://gearparentnetwork.org
X-WR-CALDESC:Events for Gear Parent Network
REFRESH-INTERVAL;VALUE=DURATION:PT1H
X-Robots-Tag:noindex
X-PUBLISHED-TTL:PT1H
BEGIN:VTIMEZONE
TZID:America/New_York
BEGIN:DAYLIGHT
TZOFFSETFROM:-0500
TZOFFSETTO:-0400
TZNAME:EDT
DTSTART:20230312T070000
END:DAYLIGHT
BEGIN:STANDARD
TZOFFSETFROM:-0400
TZOFFSETTO:-0500
TZNAME:EST
DTSTART:20231105T060000
END:STANDARD
BEGIN:DAYLIGHT
TZOFFSETFROM:-0500
TZOFFSETTO:-0400
TZNAME:EDT
DTSTART:20240310T070000
END:DAYLIGHT
BEGIN:STANDARD
TZOFFSETFROM:-0400
TZOFFSETTO:-0500
TZNAME:EST
DTSTART:20241103T060000
END:STANDARD
BEGIN:DAYLIGHT
TZOFFSETFROM:-0500
TZOFFSETTO:-0400
TZNAME:EDT
DTSTART:20250309T070000
END:DAYLIGHT
BEGIN:STANDARD
TZOFFSETFROM:-0400
TZOFFSETTO:-0500
TZNAME:EST
DTSTART:20251102T060000
END:STANDARD
END:VTIMEZONE
BEGIN:VEVENT
DTSTART;TZID=America/New_York:20240102T153000
DTEND;TZID=America/New_York:20240102T170000
DTSTAMP:20260422T031756
CREATED:20231227T192023Z
LAST-MODIFIED:20231227T192023Z
UID:6317-1704209400-1704214800@gearparentnetwork.org
SUMMARY:Nurturing Parenting for Families in Recovery
DESCRIPTION:Held virtually every Tuesday afternoon from 3:30–5 p.m \nIf you are a parent\, caregiver or working on your recovery and want to learn more about the effects of substance use on your family\, parenting style\, and your relationship with your child/youth\, please join us for this FREE 12 week program.  You will explore hands on activities\, along with guided discussions to enhance your self-awareness and increase your ability to relate to your child/children/youth in a safe and supportive environment surrounded by parents and caregivers who share similar life experiences. Join us to explore ideas and build skills; strengthen your connection with your child or youth!  Register online at: https://docs.google.com/forms/d/e/1FAIpQLScpgJNGN2rk5Jn9mEZ4PlBDEKqv9IBGf_Pjks6ToNqjQJLIow/viewform or call Megan Dickinson at 207-859-1580.
URL:https://gearparentnetwork.org/event/nurturing-parenting-for-families-in-recovery-4/
LOCATION:Go-To Meeting
ORGANIZER;CN="Diane Bouffard%2C CFPS%2C Team Leader &amp%3B Regional Family Support Coordinator":MAILTO:DBouffard@kbhmaine.org
END:VEVENT
END:VCALENDAR