BEGIN:VCALENDAR
VERSION:2.0
PRODID:-//Gear Parent Network - ECPv6.15.17.1//NONSGML v1.0//EN
CALSCALE:GREGORIAN
METHOD:PUBLISH
X-ORIGINAL-URL:https://gearparentnetwork.org
X-WR-CALDESC:Events for Gear Parent Network
REFRESH-INTERVAL;VALUE=DURATION:PT1H
X-Robots-Tag:noindex
X-PUBLISHED-TTL:PT1H
BEGIN:VTIMEZONE
TZID:America/New_York
BEGIN:DAYLIGHT
TZOFFSETFROM:-0500
TZOFFSETTO:-0400
TZNAME:EDT
DTSTART:20220313T070000
END:DAYLIGHT
BEGIN:STANDARD
TZOFFSETFROM:-0400
TZOFFSETTO:-0500
TZNAME:EST
DTSTART:20221106T060000
END:STANDARD
BEGIN:DAYLIGHT
TZOFFSETFROM:-0500
TZOFFSETTO:-0400
TZNAME:EDT
DTSTART:20230312T070000
END:DAYLIGHT
BEGIN:STANDARD
TZOFFSETFROM:-0400
TZOFFSETTO:-0500
TZNAME:EST
DTSTART:20231105T060000
END:STANDARD
BEGIN:DAYLIGHT
TZOFFSETFROM:-0500
TZOFFSETTO:-0400
TZNAME:EDT
DTSTART:20240310T070000
END:DAYLIGHT
BEGIN:STANDARD
TZOFFSETFROM:-0400
TZOFFSETTO:-0500
TZNAME:EST
DTSTART:20241103T060000
END:STANDARD
END:VTIMEZONE
BEGIN:VEVENT
DTSTART;TZID=America/New_York:20231206T130000
DTEND;TZID=America/New_York:20231206T143000
DTSTAMP:20260422T050648
CREATED:20231114T201809Z
LAST-MODIFIED:20231114T201809Z
UID:6219-1701867600-1701873000@gearparentnetwork.org
SUMMARY:December Support Group
DESCRIPTION:The G.E.A.R. Parent Network\, a program of Crisis & Counseling Centers\, is the place where Gaining Empowerment Allows Results. G.E.A.R. is run by parents for parents providing services for parents of children with emotional and behavioral health concerns. \nThrough parent-to-parent sharing of experiences and knowledge\, G.E.A.R. Parent Network empowers parents of children with behavioral health needs to build on their family’s strengths and to advocate for their family’s needs.
URL:https://gearparentnetwork.org/event/december-support-group/
LOCATION:Go-To Meeting
END:VEVENT
BEGIN:VEVENT
DTSTART;TZID=America/New_York:20231206T150000
DTEND;TZID=America/New_York:20231206T170000
DTSTAMP:20260422T050648
CREATED:20230925T152257Z
LAST-MODIFIED:20230925T152257Z
UID:6068-1701874800-1701882000@gearparentnetwork.org
SUMMARY:Ho-Ho-Ho Holiday Fun! Decorative Handprint Christmas Trees!
DESCRIPTION:Bring your kids and join us and our local youth group in creating easy handprint Christmas tree designs for the holidays! All supplies necessary will be provided. Let’s have fun together\, be creative and leave you with a little personalized memory to hold on to or create a personal gift to give this holiday season! \nThe G.E.A.R. Parent Network\, a program of Crisis & Counseling Centers\, is the place where Gaining Empowerment Allows Results. G.E.A.R. is run by parents for parents providing services for parents of children with emotional and behavioral health concerns. \nThrough parent-to-parent sharing of experiences and knowledge\, G.E.A.R. Parent Network empowers parents of children with behavioral health needs to build on their family’s strengths and to advocate for their family’s needs.
URL:https://gearparentnetwork.org/event/ho-ho-ho-holiday-fun-decorative-handprint-christmas-trees/
LOCATION:Ginny’s Natural Corner\, 217 North Ave in Skowhegan\, 217 North Ave
ORGANIZER;CN="Diane Bouffard%2C CFPS%2C Team Leader &amp%3B Regional Family Support Coordinator":MAILTO:DBouffard@kbhmaine.org
END:VEVENT
BEGIN:VEVENT
DTSTART;TZID=America/New_York:20231206T160000
DTEND;TZID=America/New_York:20231206T170000
DTSTAMP:20260422T050648
CREATED:20230925T152719Z
LAST-MODIFIED:20230925T165100Z
UID:6071-1701878400-1701882000@gearparentnetwork.org
SUMMARY:Ho-Ho-Ho Holiday Fun! Creating a Cookie Jar Mix Gift
DESCRIPTION:Whip up a homemade gift from the kitchen to show family and friends you truly care! Join us for this evening of fun and create a cookie jar mix to take home with you as a gift for that special someone. Personalize your jar by adding a tag and a simple ribbon or bow for a one of a kind touch. G.E.A.R. will provide the dry mix supplies and some decorative items. Please do feel free to bring a quart wide mouth canning jar or decorative items from home.\nNote: You must pre-register for this workshop. \nThe G.E.A.R. Parent Network\, a program of Crisis & Counseling Centers\, is the place where Gaining Empowerment Allows Results. G.E.A.R. is run by parents for parents providing services for parents of children with emotional and behavioral health concerns. \nThrough parent-to-parent sharing of experiences and knowledge\, G.E.A.R. Parent Network empowers parents of children with behavioral health needs to build on their family’s strengths and to advocate for their family’s needs.
URL:https://gearparentnetwork.org/event/ho-ho-ho-holiday-fun-creating-a-cookie-jar-mix-gift/
LOCATION:Coastal Recovery Community Center\, 11 White Street\, Rockland or GOTO
END:VEVENT
END:VCALENDAR